BEGIN:VCALENDAR
VERSION:2.0
PRODID:-//Plone.org//NONSGML plone.app.event//EN
X-WR-TIMEZONE:Europe/Vienna
BEGIN:VEVENT
SUMMARY:Open Call - Architekturtage 2026
DTSTART;VALUE=DATE:20260530
DTEND;VALUE=DATE:20260531
DTSTAMP:20260420T165419Z
UID:d1797197a3514b30b84b08bbd3c5f922@zv-architekten.at
CONTACT:Architekturstiftung Österreich Gemeinnützige Privatstiftung\n\nS
 alvatorgasse 10/6/4\n\n1010 Wien\n\nT   +43 1 513 08 95\nM  +43 676 772787
 4\n\ne   office@architekturstiftung.at\n\nwww.architekturstiftung.at
CREATED:20260305T191211Z
DESCRIPTION:Die Architekturtage 2026 laden alle ein\, sich am Festival zu 
 beteiligen – ob groß oder klein\, ob Architekt*in\, Ingenieur*in oder n
 icht. Gemeinsam wollen wir sichtbar machen\, welche Infrastrukturen unsere
 n Alltag prägen und welche Ideen uns für die Zukunft verbinden.
LAST-MODIFIED:20260305T191300Z
URL:https://zv-architekten.at/kalender/open-call-architekturtage-2026
END:VEVENT
END:VCALENDAR
